BEGIN:VCALENDAR
VERSION:2.0
PRODID:-//horsealert.local//NONSGML kigkonsult.se iCalcreator 2.10.5//
CALSCALE:GREGORIAN
X-WR-TIMEZONE:Europe/Dublin
BEGIN:VTIMEZONE
TZID:Etc/GMT-1
BEGIN:STANDARD
DTSTART:20010101T000000
TZOFFSETFROM:+0100
TZOFFSETTO:+0100
TZNAME:GMT +01:00
END:STANDARD
END:VTIMEZONE
BEGIN:VEVENT
UID:20260421T134422CEST-1450FbeglW@horsealert.local
DTSTAMP:20260421T110422Z
CATEGORIES:Horse Alerts
DESCRIPTION:Robert Baskerville 2017-2018 Chase (Novices' Limited Handicap)
DTSTART:20171231T142500
LOCATION:England
SUMMARY:Horse Racing:Robert Baskerville 2017-2018 Chase (Novices' Limited H
 andicap)
END:VEVENT
END:VCALENDAR
