BEGIN:VCALENDAR
VERSION:2.0
PRODID:-//horsealert.local//NONSGML kigkonsult.se iCalcreator 2.10.5//
CALSCALE:GREGORIAN
X-WR-TIMEZONE:Europe/Dublin
BEGIN:VTIMEZONE
TZID:Etc/GMT-1
BEGIN:STANDARD
DTSTART:20010101T000000
TZOFFSETFROM:+0100
TZOFFSETTO:+0100
TZNAME:GMT +01:00
END:STANDARD
END:VTIMEZONE
BEGIN:VEVENT
UID:20260421T151526CEST-5601l67d1o@horsealert.local
DTSTAMP:20260421T130426Z
CATEGORIES:Horse Alerts
DESCRIPTION:Buy Your Tickets Online At www.punchestown.com Handicap Hurdle
DTSTART:20171231T144000
LOCATION:Eire
SUMMARY:Horse Racing:Buy Your Tickets Online At www.punchestown.com Handica
 p Hurdle
END:VEVENT
END:VCALENDAR
