BEGIN:VCALENDAR
VERSION:2.0
PRODID:-//horsealert.local//NONSGML kigkonsult.se iCalcreator 2.10.5//
CALSCALE:GREGORIAN
X-WR-TIMEZONE:Europe/Dublin
BEGIN:VTIMEZONE
TZID:Etc/GMT-1
BEGIN:STANDARD
DTSTART:20010101T000000
TZOFFSETFROM:+0100
TZOFFSETTO:+0100
TZNAME:GMT +01:00
END:STANDARD
END:VTIMEZONE
BEGIN:VEVENT
UID:20260421T151341CEST-8539d2kixm@horsealert.local
DTSTAMP:20260421T130441Z
CATEGORIES:Horse Alerts
DESCRIPTION:Betfred Wishing You A Very Happy New Year Handicap Hurdle
DTSTART:20171230T135000
LOCATION:England
SUMMARY:Horse Racing:Betfred Wishing You A Very Happy New Year Handicap Hur
 dle
END:VEVENT
END:VCALENDAR
