BEGIN:VCALENDAR
VERSION:2.0
PRODID:-//horsealert.local//NONSGML kigkonsult.se iCalcreator 2.10.5//
CALSCALE:GREGORIAN
X-WR-TIMEZONE:Europe/Dublin
BEGIN:VTIMEZONE
TZID:Etc/GMT-1
BEGIN:STANDARD
DTSTART:20010101T000000
TZOFFSETFROM:+0100
TZOFFSETTO:+0100
TZNAME:GMT +01:00
END:STANDARD
END:VTIMEZONE
BEGIN:VEVENT
UID:20260421T151617CEST-3289fSVtH5@horsealert.local
DTSTAMP:20260421T130417Z
CATEGORIES:Horse Alerts
DESCRIPTION:Sunbets Fillies' Juvenile Maiden Hurdle
DTSTART:20171229T125500
LOCATION:England
SUMMARY:Horse Racing:Sunbets Fillies' Juvenile Maiden Hurdle
END:VEVENT
END:VCALENDAR
