BEGIN:VCALENDAR
VERSION:2.0
PRODID:-//horsealert.local//NONSGML kigkonsult.se iCalcreator 2.10.5//
CALSCALE:GREGORIAN
X-WR-TIMEZONE:Europe/Dublin
BEGIN:VTIMEZONE
TZID:Etc/GMT-1
BEGIN:STANDARD
DTSTART:20010101T000000
TZOFFSETFROM:+0100
TZOFFSETTO:+0100
TZNAME:GMT +01:00
END:STANDARD
END:VTIMEZONE
BEGIN:VEVENT
UID:20260421T151512CEST-0265Rsbxer@horsealert.local
DTSTAMP:20260421T130412Z
CATEGORIES:Horse Alerts
DESCRIPTION:Ballymaloe Foods Flat Race
DTSTART:20171228T142500
LOCATION:Eire
SUMMARY:Horse Racing:Ballymaloe Foods Flat Race
END:VEVENT
END:VCALENDAR
