BEGIN:VCALENDAR
VERSION:2.0
PRODID:-//horsealert.local//NONSGML kigkonsult.se iCalcreator 2.10.5//
CALSCALE:GREGORIAN
X-WR-TIMEZONE:Europe/Dublin
BEGIN:VTIMEZONE
TZID:Etc/GMT-1
BEGIN:STANDARD
DTSTART:20010101T000000
TZOFFSETFROM:+0100
TZOFFSETTO:+0100
TZNAME:GMT +01:00
END:STANDARD
END:VTIMEZONE
BEGIN:VEVENT
UID:20260421T134028CEST-8600a1IeEK@horsealert.local
DTSTAMP:20260421T110428Z
CATEGORIES:Horse Alerts
DESCRIPTION:Paddy's Rewards Club Chase (Grade 1)
DTSTART:20171227T131500
LOCATION:Eire
SUMMARY:Horse Racing:Paddy's Rewards Club Chase (Grade 1)
END:VEVENT
END:VCALENDAR
