BEGIN:VCALENDAR
VERSION:2.0
PRODID:-//horsealert.local//NONSGML kigkonsult.se iCalcreator 2.10.5//
CALSCALE:GREGORIAN
X-WR-TIMEZONE:Europe/Dublin
BEGIN:VTIMEZONE
TZID:Etc/GMT-1
BEGIN:STANDARD
DTSTART:20010101T000000
TZOFFSETFROM:+0100
TZOFFSETTO:+0100
TZNAME:GMT +01:00
END:STANDARD
END:VTIMEZONE
BEGIN:VEVENT
UID:20260421T151616CEST-5056tm2scV@horsealert.local
DTSTAMP:20260421T130416Z
CATEGORIES:Horse Alerts
DESCRIPTION:Bathwick Tyres Lord Stalbridge Memorial Cup Handicap Chase
DTSTART:20171226T140500
LOCATION:England
SUMMARY:Horse Racing:Bathwick Tyres Lord Stalbridge Memorial Cup Handicap C
 hase
END:VEVENT
END:VCALENDAR
