BEGIN:VCALENDAR
VERSION:2.0
PRODID:-//horsealert.local//NONSGML kigkonsult.se iCalcreator 2.10.5//
CALSCALE:GREGORIAN
X-WR-TIMEZONE:Europe/Dublin
BEGIN:VTIMEZONE
TZID:Etc/GMT-1
BEGIN:STANDARD
DTSTART:20010101T000000
TZOFFSETFROM:+0100
TZOFFSETTO:+0100
TZNAME:GMT +01:00
END:STANDARD
END:VTIMEZONE
BEGIN:VEVENT
UID:20260421T134116CEST-3258tkJNx5@horsealert.local
DTSTAMP:20260421T110416Z
CATEGORIES:Horse Alerts
DESCRIPTION:H Taylor & Sons Butchers & Bakers Handicap Chase
DTSTART:20171226T140500
LOCATION:England
SUMMARY:Horse Racing:H Taylor & Sons Butchers & Bakers Handicap Chase
END:VEVENT
END:VCALENDAR
