BEGIN:VCALENDAR
VERSION:2.0
PRODID:-//horsealert.local//NONSGML kigkonsult.se iCalcreator 2.10.5//
CALSCALE:GREGORIAN
X-WR-TIMEZONE:Europe/Dublin
BEGIN:VTIMEZONE
TZID:Etc/GMT-1
BEGIN:STANDARD
DTSTART:20010101T000000
TZOFFSETFROM:+0100
TZOFFSETTO:+0100
TZNAME:GMT +01:00
END:STANDARD
END:VTIMEZONE
BEGIN:VEVENT
UID:20260421T134437CEST-4076GuFWP0@horsealert.local
DTSTAMP:20260421T110437Z
CATEGORIES:Horse Alerts
DESCRIPTION:Unicorn Group Handicap Chase (Grade 3)
DTSTART:20171215T143000
LOCATION:England
SUMMARY:Horse Racing:Unicorn Group Handicap Chase (Grade 3)
END:VEVENT
END:VCALENDAR
