BEGIN:VCALENDAR
VERSION:2.0
PRODID:-//horsealert.local//NONSGML kigkonsult.se iCalcreator 2.10.5//
CALSCALE:GREGORIAN
X-WR-TIMEZONE:Europe/Dublin
BEGIN:VTIMEZONE
TZID:Etc/GMT-1
BEGIN:STANDARD
DTSTART:20010101T000000
TZOFFSETFROM:+0100
TZOFFSETTO:+0100
TZNAME:GMT +01:00
END:STANDARD
END:VTIMEZONE
BEGIN:VEVENT
UID:20260421T134436CEST-3681S43T6m@horsealert.local
DTSTAMP:20260421T110436Z
CATEGORIES:Horse Alerts
DESCRIPTION:Tents & Events Marquee Hire Intermediate Open NH Flat Race
DTSTART:20171215T153000
LOCATION:Wales
SUMMARY:Horse Racing:Tents & Events Marquee Hire Intermediate Open NH Flat 
 Race
END:VEVENT
END:VCALENDAR
