BEGIN:VCALENDAR
VERSION:2.0
PRODID:-//horsealert.local//NONSGML kigkonsult.se iCalcreator 2.10.5//
CALSCALE:GREGORIAN
X-WR-TIMEZONE:Europe/Dublin
BEGIN:VTIMEZONE
TZID:Etc/GMT-1
BEGIN:STANDARD
DTSTART:20010101T000000
TZOFFSETFROM:+0100
TZOFFSETTO:+0100
TZNAME:GMT +01:00
END:STANDARD
END:VTIMEZONE
BEGIN:VEVENT
UID:20260421T151340CEST-10497o5KkM@horsealert.local
DTSTAMP:20260421T130440Z
CATEGORIES:Horse Alerts
DESCRIPTION:Christmas Party Packages At Dundalk Stadium Nursery Handicap (P
 lus 10)
DTSTART:20171215T183000
LOCATION:Eire
SUMMARY:Horse Racing:Christmas Party Packages At Dundalk Stadium Nursery Ha
 ndicap (Plus 10)
END:VEVENT
END:VCALENDAR
