BEGIN:VCALENDAR
VERSION:2.0
PRODID:-//horsealert.local//NONSGML kigkonsult.se iCalcreator 2.10.5//
CALSCALE:GREGORIAN
X-WR-TIMEZONE:Europe/Dublin
BEGIN:VTIMEZONE
TZID:Etc/GMT-1
BEGIN:STANDARD
DTSTART:20010101T000000
TZOFFSETFROM:+0100
TZOFFSETTO:+0100
TZNAME:GMT +01:00
END:STANDARD
END:VTIMEZONE
BEGIN:VEVENT
UID:20260421T151614CEST-4919H4uGpX@horsealert.local
DTSTAMP:20260421T130414Z
CATEGORIES:Horse Alerts
DESCRIPTION:Bet toteJackpot At betfred.com Nursery
DTSTART:20171215T181500
LOCATION:England
SUMMARY:Horse Racing:Bet toteJackpot At betfred.com Nursery
END:VEVENT
END:VCALENDAR
