BEGIN:VCALENDAR
VERSION:2.0
PRODID:-//horsealert.local//NONSGML kigkonsult.se iCalcreator 2.10.5//
CALSCALE:GREGORIAN
X-WR-TIMEZONE:Europe/Dublin
BEGIN:VTIMEZONE
TZID:Etc/GMT-1
BEGIN:STANDARD
DTSTART:20010101T000000
TZOFFSETFROM:+0100
TZOFFSETTO:+0100
TZNAME:GMT +01:00
END:STANDARD
END:VTIMEZONE
BEGIN:VEVENT
UID:20260421T151634CEST-38413oUvl4@horsealert.local
DTSTAMP:20260421T130434Z
CATEGORIES:Horse Alerts
DESCRIPTION:Ludlow Langstone Construction Chase (Novices' Limited Handicap)
  (For The See More Business Trophy)
DTSTART:20171209T133500
LOCATION:Wales
SUMMARY:Horse Racing:Ludlow Langstone Construction Chase (Novices' Limited 
 Handicap) (For The See More Business Trophy)
END:VEVENT
END:VCALENDAR
