BEGIN:VCALENDAR
VERSION:2.0
PRODID:-//horsealert.local//NONSGML kigkonsult.se iCalcreator 2.10.5//
CALSCALE:GREGORIAN
X-WR-TIMEZONE:Europe/Dublin
BEGIN:VTIMEZONE
TZID:Etc/GMT-1
BEGIN:STANDARD
DTSTART:20010101T000000
TZOFFSETFROM:+0100
TZOFFSETTO:+0100
TZNAME:GMT +01:00
END:STANDARD
END:VTIMEZONE
BEGIN:VEVENT
UID:20260421T134114CEST-1413ag0Z4v@horsealert.local
DTSTAMP:20260421T110414Z
CATEGORIES:Horse Alerts
DESCRIPTION:32Red.com Conditions Stakes (Fast-Track Qualifier) (Plus 10)
DTSTART:20171209T194500
LOCATION:England
SUMMARY:Horse Racing:32Red.com Conditions Stakes (Fast-Track Qualifier) (Pl
 us 10)
END:VEVENT
END:VCALENDAR
