BEGIN:VCALENDAR
VERSION:2.0
PRODID:-//horsealert.local//NONSGML kigkonsult.se iCalcreator 2.10.5//
CALSCALE:GREGORIAN
X-WR-TIMEZONE:Europe/Dublin
BEGIN:VTIMEZONE
TZID:Etc/GMT-1
BEGIN:STANDARD
DTSTART:20010101T000000
TZOFFSETFROM:+0100
TZOFFSETTO:+0100
TZNAME:GMT +01:00
END:STANDARD
END:VTIMEZONE
BEGIN:VEVENT
UID:20260421T151337CEST-1961WUUuTA@horsealert.local
DTSTAMP:20260421T130437Z
CATEGORIES:Horse Alerts
DESCRIPTION:Compare Free Bets At bookmakers.co.uk 'Hands And Heels' 'Nation
 al Hunt' Novices' Hurdle (Cond/Amat)
DTSTART:20171208T145500
LOCATION:England
SUMMARY:Horse Racing:Compare Free Bets At bookmakers.co.uk 'Hands And Heels
 ' 'National Hunt' Novices' Hurdle (Cond/Amat)
END:VEVENT
END:VCALENDAR
