BEGIN:VCALENDAR
VERSION:2.0
PRODID:-//horsealert.local//NONSGML kigkonsult.se iCalcreator 2.10.5//
CALSCALE:GREGORIAN
X-WR-TIMEZONE:Europe/Dublin
BEGIN:VTIMEZONE
TZID:Etc/GMT-1
BEGIN:STANDARD
DTSTART:20010101T000000
TZOFFSETFROM:+0100
TZOFFSETTO:+0100
TZNAME:GMT +01:00
END:STANDARD
END:VTIMEZONE
BEGIN:VEVENT
UID:20260421T215647CEST-9924DPVddb@horsealert.local
DTSTAMP:20260421T190447Z
CATEGORIES:Horse Alerts
DESCRIPTION:Tokio Marine Kiln Introductory Juvenile Hurdle
DTSTART:20171208T132500
LOCATION:England
SUMMARY:Horse Racing:Tokio Marine Kiln Introductory Juvenile Hurdle
END:VEVENT
END:VCALENDAR
