BEGIN:VCALENDAR
VERSION:2.0
PRODID:-//horsealert.local//NONSGML kigkonsult.se iCalcreator 2.10.5//
CALSCALE:GREGORIAN
X-WR-TIMEZONE:Europe/Dublin
BEGIN:VTIMEZONE
TZID:Etc/GMT-1
BEGIN:STANDARD
DTSTART:20010101T000000
TZOFFSETFROM:+0100
TZOFFSETTO:+0100
TZNAME:GMT +01:00
END:STANDARD
END:VTIMEZONE
BEGIN:VEVENT
UID:20260421T134229CEST-7865d5fB83@horsealert.local
DTSTAMP:20260421T110429Z
CATEGORIES:Horse Alerts
DESCRIPTION:Holiday Inn Shepperton Amateur Riders' Handicap Chase (For The 
 John Dunsdon Memorial Cup)
DTSTART:20171208T125000
LOCATION:England
SUMMARY:Horse Racing:Holiday Inn Shepperton Amateur Riders' Handicap Chase 
 (For The John Dunsdon Memorial Cup)
END:VEVENT
END:VCALENDAR
