BEGIN:VCALENDAR
VERSION:2.0
PRODID:-//horsealert.local//NONSGML kigkonsult.se iCalcreator 2.10.5//
CALSCALE:GREGORIAN
X-WR-TIMEZONE:Europe/Dublin
BEGIN:VTIMEZONE
TZID:Etc/GMT-1
BEGIN:STANDARD
DTSTART:20010101T000000
TZOFFSETFROM:+0100
TZOFFSETTO:+0100
TZNAME:GMT +01:00
END:STANDARD
END:VTIMEZONE
BEGIN:VEVENT
UID:20260421T151827CEST-1328uK3Sw4@horsealert.local
DTSTAMP:20260421T130427Z
CATEGORIES:Horse Alerts
DESCRIPTION:Ucello Ii Chase
DTSTART:20171204T133500
LOCATION:France
SUMMARY:Horse Racing:Ucello Ii Chase
END:VEVENT
END:VCALENDAR
