BEGIN:VCALENDAR
VERSION:2.0
PRODID:-//horsealert.local//NONSGML kigkonsult.se iCalcreator 2.10.5//
CALSCALE:GREGORIAN
X-WR-TIMEZONE:Europe/Dublin
BEGIN:VTIMEZONE
TZID:Etc/GMT-1
BEGIN:STANDARD
DTSTART:20010101T000000
TZOFFSETFROM:+0100
TZOFFSETTO:+0100
TZNAME:GMT +01:00
END:STANDARD
END:VTIMEZONE
BEGIN:VEVENT
UID:20260421T134419CEST-7635xcidFT@horsealert.local
DTSTAMP:20260421T110419Z
CATEGORIES:Horse Alerts
DESCRIPTION:Christmas Racing Festival 26th-29th December Handicap Hurdle (8
 0-123)
DTSTART:20171201T134500
LOCATION:Eire
SUMMARY:Horse Racing:Christmas Racing Festival 26th-29th December Handicap 
 Hurdle (80-123)
END:VEVENT
END:VCALENDAR
