BEGIN:VCALENDAR
VERSION:2.0
PRODID:-//horsealert.local//NONSGML kigkonsult.se iCalcreator 2.10.5//
CALSCALE:GREGORIAN
X-WR-TIMEZONE:Europe/Dublin
BEGIN:VTIMEZONE
TZID:Etc/GMT-1
BEGIN:STANDARD
DTSTART:20010101T000000
TZOFFSETFROM:+0100
TZOFFSETTO:+0100
TZNAME:GMT +01:00
END:STANDARD
END:VTIMEZONE
BEGIN:VEVENT
UID:20260421T151822CEST-2103AWHiuz@horsealert.local
DTSTAMP:20260421T130422Z
CATEGORIES:Horse Alerts
DESCRIPTION:Bet toteplacepot At betfred.com 'National Hunt' Novices' Hurdle
  (Div 2)
DTSTART:20171130T125000
LOCATION:England
SUMMARY:Horse Racing:Bet toteplacepot At betfred.com 'National Hunt' Novice
 s' Hurdle (Div 2)
END:VEVENT
END:VCALENDAR
