BEGIN:VCALENDAR
VERSION:2.0
PRODID:-//horsealert.local//NONSGML kigkonsult.se iCalcreator 2.10.5//
CALSCALE:GREGORIAN
X-WR-TIMEZONE:Europe/Dublin
BEGIN:VTIMEZONE
TZID:Etc/GMT-1
BEGIN:STANDARD
DTSTART:20010101T000000
TZOFFSETFROM:+0100
TZOFFSETTO:+0100
TZNAME:GMT +01:00
END:STANDARD
END:VTIMEZONE
BEGIN:VEVENT
UID:20260421T151819CEST-4400DVlPUl@horsealert.local
DTSTAMP:20260421T130419Z
CATEGORIES:Horse Alerts
DESCRIPTION:Saltire Festival Mares' Maiden Hurdle
DTSTART:20171130T133000
LOCATION:Scotland
SUMMARY:Horse Racing:Saltire Festival Mares' Maiden Hurdle
END:VEVENT
END:VCALENDAR
