BEGIN:VCALENDAR
VERSION:2.0
PRODID:-//horsealert.local//NONSGML kigkonsult.se iCalcreator 2.10.5//
CALSCALE:GREGORIAN
X-WR-TIMEZONE:Europe/Dublin
BEGIN:VTIMEZONE
TZID:Etc/GMT-1
BEGIN:STANDARD
DTSTART:20010101T000000
TZOFFSETFROM:+0100
TZOFFSETTO:+0100
TZNAME:GMT +01:00
END:STANDARD
END:VTIMEZONE
BEGIN:VEVENT
UID:20260421T151327CEST-3797rzN63u@horsealert.local
DTSTAMP:20260421T130427Z
CATEGORIES:Horse Alerts
DESCRIPTION:Create Your Fantasy Jumps Stable At attheraces.com/stablestars 
 Handicap Hurdle
DTSTART:20171120T154000
LOCATION:England
SUMMARY:Horse Racing:Create Your Fantasy Jumps Stable At attheraces.com/sta
 blestars Handicap Hurdle
END:VEVENT
END:VCALENDAR
