BEGIN:VCALENDAR
VERSION:2.0
PRODID:-//horsealert.local//NONSGML kigkonsult.se iCalcreator 2.10.5//
CALSCALE:GREGORIAN
X-WR-TIMEZONE:Europe/Dublin
BEGIN:VTIMEZONE
TZID:Etc/GMT-1
BEGIN:STANDARD
DTSTART:20010101T000000
TZOFFSETFROM:+0100
TZOFFSETTO:+0100
TZNAME:GMT +01:00
END:STANDARD
END:VTIMEZONE
BEGIN:VEVENT
UID:20260421T151436CEST-99450BR8bu@horsealert.local
DTSTAMP:20260421T130436Z
CATEGORIES:Horse Alerts
DESCRIPTION:Bernard Hart's Finishing Strongly 70th Birthday Novices' Handic
 ap Chase
DTSTART:20171116T135500
LOCATION:England
SUMMARY:Horse Racing:Bernard Hart's Finishing Strongly 70th Birthday Novice
 s' Handicap Chase
END:VEVENT
END:VCALENDAR
