BEGIN:VCALENDAR
VERSION:2.0
PRODID:-//horsealert.local//NONSGML kigkonsult.se iCalcreator 2.10.5//
CALSCALE:GREGORIAN
X-WR-TIMEZONE:Europe/Dublin
BEGIN:VTIMEZONE
TZID:Etc/GMT-1
BEGIN:STANDARD
DTSTART:20010101T000000
TZOFFSETFROM:+0100
TZOFFSETTO:+0100
TZNAME:GMT +01:00
END:STANDARD
END:VTIMEZONE
BEGIN:VEVENT
UID:20260421T164956CEST-7716n53G5g@horsealert.local
DTSTAMP:20260421T140456Z
CATEGORIES:Horse Alerts
DESCRIPTION:sunbets.co.uk Top Price On All Favourites All-Weather 'Hands An
 d Heels' Apprentice Handicap
DTSTART:20171116T155000
LOCATION:England
SUMMARY:Horse Racing:sunbets.co.uk Top Price On All Favourites All-Weather 
 'Hands And Heels' Apprentice Handicap
END:VEVENT
END:VCALENDAR
