BEGIN:VCALENDAR
VERSION:2.0
PRODID:-//horsealert.local//NONSGML kigkonsult.se iCalcreator 2.10.5//
CALSCALE:GREGORIAN
X-WR-TIMEZONE:Europe/Dublin
BEGIN:VTIMEZONE
TZID:Etc/GMT-1
BEGIN:STANDARD
DTSTART:20010101T000000
TZOFFSETFROM:+0100
TZOFFSETTO:+0100
TZNAME:GMT +01:00
END:STANDARD
END:VTIMEZONE
BEGIN:VEVENT
UID:20260421T151708CEST-9911AHo2gu@horsealert.local
DTSTAMP:20260421T130408Z
CATEGORIES:Horse Alerts
DESCRIPTION:totescoop6 Three Ways To Win Fillies' Novice Stakes (Plus 10)
DTSTART:20171116T185500
LOCATION:England
SUMMARY:Horse Racing:totescoop6 Three Ways To Win Fillies' Novice Stakes (P
 lus 10)
END:VEVENT
END:VCALENDAR
