BEGIN:VCALENDAR
VERSION:2.0
PRODID:-//horsealert.local//NONSGML kigkonsult.se iCalcreator 2.10.5//
CALSCALE:GREGORIAN
X-WR-TIMEZONE:Europe/Dublin
BEGIN:VTIMEZONE
TZID:Etc/GMT-1
BEGIN:STANDARD
DTSTART:20010101T000000
TZOFFSETFROM:+0100
TZOFFSETTO:+0100
TZNAME:GMT +01:00
END:STANDARD
END:VTIMEZONE
BEGIN:VEVENT
UID:20260421T151301CEST-4788dSnk9B@horsealert.local
DTSTAMP:20260421T130401Z
CATEGORIES:Horse Alerts
DESCRIPTION:Christmas Parties At Ayr Racecourse Junior Standard Open NH Fla
 t Race
DTSTART:20171115T154500
LOCATION:Scotland
SUMMARY:Horse Racing:Christmas Parties At Ayr Racecourse Junior Standard Op
 en NH Flat Race
END:VEVENT
END:VCALENDAR
