BEGIN:VCALENDAR
VERSION:2.0
PRODID:-//horsealert.local//NONSGML kigkonsult.se iCalcreator 2.10.5//
CALSCALE:GREGORIAN
X-WR-TIMEZONE:Europe/Dublin
BEGIN:VTIMEZONE
TZID:Etc/GMT-1
BEGIN:STANDARD
DTSTART:20010101T000000
TZOFFSETFROM:+0100
TZOFFSETTO:+0100
TZNAME:GMT +01:00
END:STANDARD
END:VTIMEZONE
BEGIN:VEVENT
UID:20260421T151511CEST-8476SuLbin@horsealert.local
DTSTAMP:20260421T130411Z
CATEGORIES:Horse Alerts
DESCRIPTION:George Mernagh Memorial Mares' Standard Open NH Flat Race (NHMO
 PS Bonus Race)
DTSTART:20171110T155000
LOCATION:England
SUMMARY:Horse Racing:George Mernagh Memorial Mares' Standard Open NH Flat R
 ace (NHMOPS Bonus Race)
END:VEVENT
END:VCALENDAR
