BEGIN:VCALENDAR
VERSION:2.0
PRODID:-//horsealert.local//NONSGML kigkonsult.se iCalcreator 2.10.5//
CALSCALE:GREGORIAN
X-WR-TIMEZONE:Europe/Dublin
BEGIN:VTIMEZONE
TZID:Etc/GMT-1
BEGIN:STANDARD
DTSTART:20010101T000000
TZOFFSETFROM:+0100
TZOFFSETTO:+0100
TZNAME:GMT +01:00
END:STANDARD
END:VTIMEZONE
BEGIN:VEVENT
UID:20260421T151337CEST-3791mLGX6f@horsealert.local
DTSTAMP:20260421T130437Z
CATEGORIES:Horse Alerts
DESCRIPTION:Team Archie Kindly Supported By Childs Farm Standard Open NH Fl
 at Race
DTSTART:20171109T155500
LOCATION:England
SUMMARY:Horse Racing:Team Archie Kindly Supported By Childs Farm Standard O
 pen NH Flat Race
END:VEVENT
END:VCALENDAR
