BEGIN:VCALENDAR
VERSION:2.0
PRODID:-//horsealert.local//NONSGML kigkonsult.se iCalcreator 2.10.5//
CALSCALE:GREGORIAN
X-WR-TIMEZONE:Europe/Dublin
BEGIN:VTIMEZONE
TZID:Etc/GMT-1
BEGIN:STANDARD
DTSTART:20010101T000000
TZOFFSETFROM:+0100
TZOFFSETTO:+0100
TZNAME:GMT +01:00
END:STANDARD
END:VTIMEZONE
BEGIN:VEVENT
UID:20260421T151618CEST-7807Ei3vw8@horsealert.local
DTSTAMP:20260421T130418Z
CATEGORIES:Horse Alerts
DESCRIPTION:100% Of RacingUK Profits Returned To Racing Handicap Chase
DTSTART:20171108T142500
LOCATION:Scotland
SUMMARY:Horse Racing:100% Of RacingUK Profits Returned To Racing Handicap C
 hase
END:VEVENT
END:VCALENDAR
