BEGIN:VCALENDAR
VERSION:2.0
PRODID:-//horsealert.local//NONSGML kigkonsult.se iCalcreator 2.10.5//
CALSCALE:GREGORIAN
X-WR-TIMEZONE:Europe/Dublin
BEGIN:VTIMEZONE
TZID:Etc/GMT-1
BEGIN:STANDARD
DTSTART:20010101T000000
TZOFFSETFROM:+0100
TZOFFSETTO:+0100
TZNAME:GMT +01:00
END:STANDARD
END:VTIMEZONE
BEGIN:VEVENT
UID:20260421T151659CEST-25952vo9zM@horsealert.local
DTSTAMP:20260421T130459Z
CATEGORIES:Horse Alerts
DESCRIPTION:Cross Keys At Lydney Eddie White Memorial Handicap Hurdle
DTSTART:20171108T151000
LOCATION:Wales
SUMMARY:Horse Racing:Cross Keys At Lydney Eddie White Memorial Handicap Hur
 dle
END:VEVENT
END:VCALENDAR
