BEGIN:VCALENDAR
VERSION:2.0
PRODID:-//horsealert.local//NONSGML kigkonsult.se iCalcreator 2.10.5//
CALSCALE:GREGORIAN
X-WR-TIMEZONE:Europe/Dublin
BEGIN:VTIMEZONE
TZID:Etc/GMT-1
BEGIN:STANDARD
DTSTART:20010101T000000
TZOFFSETFROM:+0100
TZOFFSETTO:+0100
TZNAME:GMT +01:00
END:STANDARD
END:VTIMEZONE
BEGIN:VEVENT
UID:20260421T152317CEST-17017g9HN5@horsealert.local
DTSTAMP:20260421T130417Z
CATEGORIES:Horse Alerts
DESCRIPTION:Book Your Christmas Party At Fairyhouse December 16th Maiden Hu
 rdle
DTSTART:20171107T132500
LOCATION:Eire
SUMMARY:Horse Racing:Book Your Christmas Party At Fairyhouse December 16th 
 Maiden Hurdle
END:VEVENT
END:VCALENDAR
