BEGIN:VCALENDAR
VERSION:2.0
PRODID:-//horsealert.local//NONSGML kigkonsult.se iCalcreator 2.10.5//
CALSCALE:GREGORIAN
X-WR-TIMEZONE:Europe/Dublin
BEGIN:VTIMEZONE
TZID:Etc/GMT-1
BEGIN:STANDARD
DTSTART:20010101T000000
TZOFFSETFROM:+0100
TZOFFSETTO:+0100
TZNAME:GMT +01:00
END:STANDARD
END:VTIMEZONE
BEGIN:VEVENT
UID:20260421T151435CEST-8057pTU73S@horsealert.local
DTSTAMP:20260421T130435Z
CATEGORIES:Horse Alerts
DESCRIPTION:Read Barry Geraghty's Blog On attheraces.com Conditional Jockey
 s' Handicap Hurdle
DTSTART:20171106T161000
LOCATION:England
SUMMARY:Horse Racing:Read Barry Geraghty's Blog On attheraces.com Condition
 al Jockeys' Handicap Hurdle
END:VEVENT
END:VCALENDAR
