BEGIN:VCALENDAR
VERSION:2.0
PRODID:-//horsealert.local//NONSGML kigkonsult.se iCalcreator 2.10.5//
CALSCALE:GREGORIAN
X-WR-TIMEZONE:Europe/Dublin
BEGIN:VTIMEZONE
TZID:Etc/GMT-1
BEGIN:STANDARD
DTSTART:20010101T000000
TZOFFSETFROM:+0100
TZOFFSETTO:+0100
TZNAME:GMT +01:00
END:STANDARD
END:VTIMEZONE
BEGIN:VEVENT
UID:20260421T152450CEST-30212BSfuA@horsealert.local
DTSTAMP:20260421T130450Z
CATEGORIES:Horse Alerts
DESCRIPTION:MyCarNeedsA.com Chase (Grade 2)
DTSTART:20171104T150500
LOCATION:Northern Ireland
SUMMARY:Horse Racing:MyCarNeedsA.com Chase (Grade 2)
END:VEVENT
END:VCALENDAR
