BEGIN:VCALENDAR
VERSION:2.0
PRODID:-//horsealert.local//NONSGML kigkonsult.se iCalcreator 2.10.5//
CALSCALE:GREGORIAN
X-WR-TIMEZONE:Europe/Dublin
BEGIN:VTIMEZONE
TZID:Etc/GMT-1
BEGIN:STANDARD
DTSTART:20010101T000000
TZOFFSETFROM:+0100
TZOFFSETTO:+0100
TZNAME:GMT +01:00
END:STANDARD
END:VTIMEZONE
BEGIN:VEVENT
UID:20260421T152450CEST-1251CvWs4l@horsealert.local
DTSTAMP:20260421T130450Z
CATEGORIES:Horse Alerts
DESCRIPTION:Weatherbys General Stud Book Online James Seymour Stakes (Liste
 d)
DTSTART:20171104T145500
LOCATION:England
SUMMARY:Horse Racing:Weatherbys General Stud Book Online James Seymour Stak
 es (Listed)
END:VEVENT
END:VCALENDAR
