BEGIN:VCALENDAR
VERSION:2.0
PRODID:-//horsealert.local//NONSGML kigkonsult.se iCalcreator 2.10.5//
CALSCALE:GREGORIAN
X-WR-TIMEZONE:Europe/Dublin
BEGIN:VTIMEZONE
TZID:Etc/GMT-1
BEGIN:STANDARD
DTSTART:20010101T000000
TZOFFSETFROM:+0100
TZOFFSETTO:+0100
TZNAME:GMT +01:00
END:STANDARD
END:VTIMEZONE
BEGIN:VEVENT
UID:20260421T152439CEST-7068r5NCJI@horsealert.local
DTSTAMP:20260421T130439Z
CATEGORIES:Horse Alerts
DESCRIPTION:Race 4 - 14 Hands Winery Breeders' Cup Juvenile Fillies (Grade 
 1)
DTSTART:20171104T190000
LOCATION:USA
SUMMARY:Horse Racing:Race 4 - 14 Hands Winery Breeders' Cup Juvenile Fillie
 s (Grade 1)
END:VEVENT
END:VCALENDAR
