BEGIN:VCALENDAR
VERSION:2.0
PRODID:-//horsealert.local//NONSGML kigkonsult.se iCalcreator 2.10.5//
CALSCALE:GREGORIAN
X-WR-TIMEZONE:Europe/Dublin
BEGIN:VTIMEZONE
TZID:Etc/GMT-1
BEGIN:STANDARD
DTSTART:20010101T000000
TZOFFSETFROM:+0100
TZOFFSETTO:+0100
TZNAME:GMT +01:00
END:STANDARD
END:VTIMEZONE
BEGIN:VEVENT
UID:20260421T153159CEST-6859PUijfa@horsealert.local
DTSTAMP:20260421T130459Z
CATEGORIES:Horse Alerts
DESCRIPTION:32RedSport.com/British Stallion Studs EBF Novice Stakes
DTSTART:20171102T124500
LOCATION:England
SUMMARY:Horse Racing:32RedSport.com/British Stallion Studs EBF Novice Stake
 s
END:VEVENT
END:VCALENDAR
