BEGIN:VCALENDAR
VERSION:2.0
PRODID:-//horsealert.local//NONSGML kigkonsult.se iCalcreator 2.10.5//
CALSCALE:GREGORIAN
X-WR-TIMEZONE:Europe/Dublin
BEGIN:VTIMEZONE
TZID:Etc/GMT-1
BEGIN:STANDARD
DTSTART:20010101T000000
TZOFFSETFROM:+0100
TZOFFSETTO:+0100
TZNAME:GMT +01:00
END:STANDARD
END:VTIMEZONE
BEGIN:VEVENT
UID:20260421T170824CEST-6624jAHFUh@horsealert.local
DTSTAMP:20260421T150424Z
CATEGORIES:Horse Alerts
DESCRIPTION:Read Noel Fehily At 188Bet Standard NH Flat Race (Conditional J
 ockeys' And Amateur Riders')
DTSTART:20171031T163000
LOCATION:Wales
SUMMARY:Horse Racing:Read Noel Fehily At 188Bet Standard NH Flat Race (Cond
 itional Jockeys' And Amateur Riders')
END:VEVENT
END:VCALENDAR
