BEGIN:VCALENDAR
VERSION:2.0
PRODID:-//horsealert.local//NONSGML kigkonsult.se iCalcreator 2.10.5//
CALSCALE:GREGORIAN
X-WR-TIMEZONE:Europe/Dublin
BEGIN:VTIMEZONE
TZID:Etc/GMT-1
BEGIN:STANDARD
DTSTART:20010101T000000
TZOFFSETFROM:+0100
TZOFFSETTO:+0100
TZNAME:GMT +01:00
END:STANDARD
END:VTIMEZONE
BEGIN:VEVENT
UID:20260421T170950CEST-2528Un2Vcw@horsealert.local
DTSTAMP:20260421T150450Z
CATEGORIES:Horse Alerts
DESCRIPTION:Ethel Gold Memorial (Sponsored By Pickwick Bookmakers) 'Confine
 d' Handicap Hurdle
DTSTART:20171031T145000
LOCATION:Wales
SUMMARY:Horse Racing:Ethel Gold Memorial (Sponsored By Pickwick Bookmakers)
  'Confined' Handicap Hurdle
END:VEVENT
END:VCALENDAR
