BEGIN:VCALENDAR
VERSION:2.0
PRODID:-//horsealert.local//NONSGML kigkonsult.se iCalcreator 2.10.5//
CALSCALE:GREGORIAN
X-WR-TIMEZONE:Europe/Dublin
BEGIN:VTIMEZONE
TZID:Etc/GMT-1
BEGIN:STANDARD
DTSTART:20010101T000000
TZOFFSETFROM:+0100
TZOFFSETTO:+0100
TZNAME:GMT +01:00
END:STANDARD
END:VTIMEZONE
BEGIN:VEVENT
UID:20260421T171141CEST-59177eloWv@horsealert.local
DTSTAMP:20260421T150441Z
CATEGORIES:Horse Alerts
DESCRIPTION:Order New Timeform Chasers And Hurdlers Handicap Chase
DTSTART:20171031T143000
LOCATION:Wales
SUMMARY:Horse Racing:Order New Timeform Chasers And Hurdlers Handicap Chase
END:VEVENT
END:VCALENDAR
