BEGIN:VCALENDAR
VERSION:2.0
PRODID:-//horsealert.local//NONSGML kigkonsult.se iCalcreator 2.10.5//
CALSCALE:GREGORIAN
X-WR-TIMEZONE:Europe/Dublin
BEGIN:VTIMEZONE
TZID:Etc/GMT-1
BEGIN:STANDARD
DTSTART:20010101T000000
TZOFFSETFROM:+0100
TZOFFSETTO:+0100
TZNAME:GMT +01:00
END:STANDARD
END:VTIMEZONE
BEGIN:VEVENT
UID:20260421T171144CEST-7944MlW7uI@horsealert.local
DTSTAMP:20260421T150444Z
CATEGORIES:Horse Alerts
DESCRIPTION:Reaneys Of Galway Supporting NUIG Volunteer Services Abroad 4-Y
 -O Fillies (Pro/Am) Flat Race
DTSTART:20171030T163500
LOCATION:Eire
SUMMARY:Horse Racing:Reaneys Of Galway Supporting NUIG Volunteer Services A
 broad 4-Y-O Fillies (Pro/Am) Flat Race
END:VEVENT
END:VCALENDAR
