BEGIN:VCALENDAR
VERSION:2.0
PRODID:-//horsealert.local//NONSGML kigkonsult.se iCalcreator 2.10.5//
CALSCALE:GREGORIAN
X-WR-TIMEZONE:Europe/Dublin
BEGIN:VTIMEZONE
TZID:Etc/GMT-1
BEGIN:STANDARD
DTSTART:20010101T000000
TZOFFSETFROM:+0100
TZOFFSETTO:+0100
TZNAME:GMT +01:00
END:STANDARD
END:VTIMEZONE
BEGIN:VEVENT
UID:20260421T171555CEST-088416lEaN@horsealert.local
DTSTAMP:20260421T150455Z
CATEGORIES:Horse Alerts
DESCRIPTION:Worthington's 'Victoria Club' Lady Jockeys' Handicap (Amateurs)
DTSTART:20171028T170500
LOCATION:England
SUMMARY:Horse Racing:Worthington's 'Victoria Club' Lady Jockeys' Handicap (
 Amateurs)
END:VEVENT
END:VCALENDAR
