BEGIN:VCALENDAR
VERSION:2.0
PRODID:-//horsealert.local//NONSGML kigkonsult.se iCalcreator 2.10.5//
CALSCALE:GREGORIAN
X-WR-TIMEZONE:Europe/Dublin
BEGIN:VTIMEZONE
TZID:Etc/GMT-1
BEGIN:STANDARD
DTSTART:20010101T000000
TZOFFSETFROM:+0100
TZOFFSETTO:+0100
TZNAME:GMT +01:00
END:STANDARD
END:VTIMEZONE
BEGIN:VEVENT
UID:20260421T171837CEST-3969CVzMxt@horsealert.local
DTSTAMP:20260421T150437Z
CATEGORIES:Horse Alerts
DESCRIPTION:Worthington's 'Indigo Leisure' Stakes (Group 3) (Registered As 
 The St Simon Stakes)
DTSTART:20171028T141500
LOCATION:England
SUMMARY:Horse Racing:Worthington's 'Indigo Leisure' Stakes (Group 3) (Regis
 tered As The St Simon Stakes)
END:VEVENT
END:VCALENDAR
