BEGIN:VCALENDAR
VERSION:2.0
PRODID:-//horsealert.local//NONSGML kigkonsult.se iCalcreator 2.10.5//
CALSCALE:GREGORIAN
X-WR-TIMEZONE:Europe/Dublin
BEGIN:VTIMEZONE
TZID:Etc/GMT-1
BEGIN:STANDARD
DTSTART:20010101T000000
TZOFFSETFROM:+0100
TZOFFSETTO:+0100
TZNAME:GMT +01:00
END:STANDARD
END:VTIMEZONE
BEGIN:VEVENT
UID:20260421T171821CEST-4812uEclib@horsealert.local
DTSTAMP:20260421T150421Z
CATEGORIES:Horse Alerts
DESCRIPTION:Free Bets At 188Bet Casino Handicap
DTSTART:20171027T161000
LOCATION:England
SUMMARY:Horse Racing:Free Bets At 188Bet Casino Handicap
END:VEVENT
END:VCALENDAR
