BEGIN:VCALENDAR
VERSION:2.0
PRODID:-//horsealert.local//NONSGML kigkonsult.se iCalcreator 2.10.5//
CALSCALE:GREGORIAN
X-WR-TIMEZONE:Europe/Dublin
BEGIN:VTIMEZONE
TZID:Etc/GMT-1
BEGIN:STANDARD
DTSTART:20010101T000000
TZOFFSETFROM:+0100
TZOFFSETTO:+0100
TZNAME:GMT +01:00
END:STANDARD
END:VTIMEZONE
BEGIN:VEVENT
UID:20260421T171027CEST-8578Hinmwm@horsealert.local
DTSTAMP:20260421T150427Z
CATEGORIES:Horse Alerts
DESCRIPTION:Our Pegasus Handicap
DTSTART:20171025T134500
LOCATION:Hong Kong
SUMMARY:Horse Racing:Our Pegasus Handicap
END:VEVENT
END:VCALENDAR
