BEGIN:VCALENDAR
VERSION:2.0
PRODID:-//horsealert.local//NONSGML kigkonsult.se iCalcreator 2.10.5//
CALSCALE:GREGORIAN
X-WR-TIMEZONE:Europe/Dublin
BEGIN:VTIMEZONE
TZID:Etc/GMT-1
BEGIN:STANDARD
DTSTART:20010101T000000
TZOFFSETFROM:+0100
TZOFFSETTO:+0100
TZNAME:GMT +01:00
END:STANDARD
END:VTIMEZONE
BEGIN:VEVENT
UID:20260421T170841CEST-4825i0x0Eu@horsealert.local
DTSTAMP:20260421T150441Z
CATEGORIES:Horse Alerts
DESCRIPTION:Christmas Parties At Fairyhouse December 16th Handicap (45-65) 
 (Div 2)
DTSTART:20171024T171500
LOCATION:Eire
SUMMARY:Horse Racing:Christmas Parties At Fairyhouse December 16th Handicap
  (45-65) (Div 2)
END:VEVENT
END:VCALENDAR
