BEGIN:VCALENDAR
VERSION:2.0
PRODID:-//horsealert.local//NONSGML kigkonsult.se iCalcreator 2.10.5//
CALSCALE:GREGORIAN
X-WR-TIMEZONE:Europe/Dublin
BEGIN:VTIMEZONE
TZID:Etc/GMT-1
BEGIN:STANDARD
DTSTART:20010101T000000
TZOFFSETFROM:+0100
TZOFFSETTO:+0100
TZNAME:GMT +01:00
END:STANDARD
END:VTIMEZONE
BEGIN:VEVENT
UID:20260421T171120CEST-2954KV1DfM@horsealert.local
DTSTAMP:20260421T150420Z
CATEGORIES:Horse Alerts
DESCRIPTION:Breeders Backing Racing EBF Fillies' Novice Stakes (Plus 10) (S
 tr) (Div 2)
DTSTART:20171024T140000
LOCATION:England
SUMMARY:Horse Racing:Breeders Backing Racing EBF Fillies' Novice Stakes (Pl
 us 10) (Str) (Div 2)
END:VEVENT
END:VCALENDAR
