BEGIN:VCALENDAR
VERSION:2.0
PRODID:-//horsealert.local//NONSGML kigkonsult.se iCalcreator 2.10.5//
CALSCALE:GREGORIAN
X-WR-TIMEZONE:Europe/Dublin
BEGIN:VTIMEZONE
TZID:Etc/GMT-1
BEGIN:STANDARD
DTSTART:20010101T000000
TZOFFSETFROM:+0100
TZOFFSETTO:+0100
TZNAME:GMT +01:00
END:STANDARD
END:VTIMEZONE
BEGIN:VEVENT
UID:20260421T170949CEST-70644xeNL7@horsealert.local
DTSTAMP:20260421T150449Z
CATEGORIES:Horse Alerts
DESCRIPTION:Hugo's Restaurant Barbados Supports Moorcroft Handicap Hurdle
DTSTART:20171023T173000
LOCATION:England
SUMMARY:Horse Racing:Hugo's Restaurant Barbados Supports Moorcroft Handicap
  Hurdle
END:VEVENT
END:VCALENDAR
