BEGIN:VCALENDAR
VERSION:2.0
PRODID:-//horsealert.local//NONSGML kigkonsult.se iCalcreator 2.10.5//
CALSCALE:GREGORIAN
X-WR-TIMEZONE:Europe/Dublin
BEGIN:VTIMEZONE
TZID:Etc/GMT-1
BEGIN:STANDARD
DTSTART:20010101T000000
TZOFFSETFROM:+0100
TZOFFSETTO:+0100
TZNAME:GMT +01:00
END:STANDARD
END:VTIMEZONE
BEGIN:VEVENT
UID:20260421T171122CEST-5131zj0KRj@horsealert.local
DTSTAMP:20260421T150422Z
CATEGORIES:Horse Alerts
DESCRIPTION:Racing UK HD Handicap
DTSTART:20171024T204500
LOCATION:England
SUMMARY:Horse Racing:Racing UK HD Handicap
END:VEVENT
END:VCALENDAR
