BEGIN:VCALENDAR
VERSION:2.0
PRODID:-//horsealert.local//NONSGML kigkonsult.se iCalcreator 2.10.5//
CALSCALE:GREGORIAN
X-WR-TIMEZONE:Europe/Dublin
BEGIN:VTIMEZONE
TZID:Etc/GMT-1
BEGIN:STANDARD
DTSTART:20010101T000000
TZOFFSETFROM:+0100
TZOFFSETTO:+0100
TZNAME:GMT +01:00
END:STANDARD
END:VTIMEZONE
BEGIN:VEVENT
UID:20260421T171217CEST-2322nJpHcO@horsealert.local
DTSTAMP:20260421T150417Z
CATEGORIES:Horse Alerts
DESCRIPTION:Heart North East Handicap
DTSTART:20171020T191500
LOCATION:England
SUMMARY:Horse Racing:Heart North East Handicap
END:VEVENT
END:VCALENDAR
