BEGIN:VCALENDAR
VERSION:2.0
PRODID:-//horsealert.local//NONSGML kigkonsult.se iCalcreator 2.10.5//
CALSCALE:GREGORIAN
X-WR-TIMEZONE:Europe/Dublin
BEGIN:VTIMEZONE
TZID:Etc/GMT-1
BEGIN:STANDARD
DTSTART:20010101T000000
TZOFFSETFROM:+0100
TZOFFSETTO:+0100
TZNAME:GMT +01:00
END:STANDARD
END:VTIMEZONE
BEGIN:VEVENT
UID:20260421T171007CEST-80385J0Rdk@horsealert.local
DTSTAMP:20260421T150407Z
CATEGORIES:Horse Alerts
DESCRIPTION:Coral.ie Best Price Guaranteed On All Irish Races 3-Y-O Hurdle
DTSTART:20171018T140500
LOCATION:Eire
SUMMARY:Horse Racing:Coral.ie Best Price Guaranteed On All Irish Races 3-Y-
 O Hurdle
END:VEVENT
END:VCALENDAR
